BEGIN:VCALENDAR
VERSION:2.0
PRODID:-//hacksw/handcal//NONSGML v1.0//EN
CALSCALE:GREGORIAN
BEGIN:VEVENT
ORGANIZER;CN=Nordstrom:MAILTO:no-reply@mail.gcs-web.com
DTEND:
UID:ac7d61ac-3047-4de5-957e-565e03f7c97f
DTSTAMP:1619982761
LOCATION:https://events.q4inc.com/vsm/JWN/2021
DESCRIPTION:Event Details http://investor.nordstrom.com/events/event-details/annual-meeting-shareholders-6\n\nWebcast: https://events.q4inc.com/vsm/JWN/2021
URL;VALUE=URI:https://events.q4inc.com/vsm/JWN/2021
SUMMARY:Nordstrom - Annual Meeting of Shareholders
DTSTART:20210519T160000Z
END:VEVENT
END:VCALENDAR